BEGIN:VCALENDAR
VERSION:2.0
PRODID:-// - ECPv6.15.17//NONSGML v1.0//EN
CALSCALE:GREGORIAN
METHOD:PUBLISH
X-ORIGINAL-URL:https://triskelionedu.org
X-WR-CALDESC:Events for 
REFRESH-INTERVAL;VALUE=DURATION:PT1H
X-Robots-Tag:noindex
X-PUBLISHED-TTL:PT1H
BEGIN:VTIMEZONE
TZID:UTC
BEGIN:STANDARD
TZOFFSETFROM:+0000
TZOFFSETTO:+0000
TZNAME:UTC
DTSTART:20220101T000000
END:STANDARD
END:VTIMEZONE
BEGIN:VEVENT
DTSTART;TZID=UTC:20230325T140000
DTEND;TZID=UTC:20230325T160000
DTSTAMP:20260422T023017
CREATED:20230321T110808Z
LAST-MODIFIED:20240815T142617Z
UID:768-1679752800-1679760000@triskelionedu.org
SUMMARY:Page Builders vs. Gutenberg
DESCRIPTION:While using WordPress\, one is often faced with different choices. One of the most urgent choices is to choose between less popular block editor (Gutenberg)\, and much popular page builders such as Elementor. On Saturday\, March 25\, 2023\, Lira WordPress Meetup will convene online to discuss this topic\, share experiences from others\, and recommendations.
URL:https://triskelionedu.org/event/page-builders-vs-gutenberg/
LOCATION:Online\, Lira\, Uganda
CATEGORIES:Online
ATTACH;FMTTYPE=image/webp:https://triskelionedu.org/wp-content/uploads/2023/03/Gutenberg.webp
END:VEVENT
END:VCALENDAR