BEGIN:VCALENDAR
VERSION:2.0
PRODID:-// - ECPv6.15.17//NONSGML v1.0//EN
CALSCALE:GREGORIAN
METHOD:PUBLISH
X-ORIGINAL-URL:https://triskelionedu.org
X-WR-CALDESC:Events for 
REFRESH-INTERVAL;VALUE=DURATION:PT1H
X-Robots-Tag:noindex
X-PUBLISHED-TTL:PT1H
BEGIN:VTIMEZONE
TZID:UTC
BEGIN:STANDARD
TZOFFSETFROM:+0000
TZOFFSETTO:+0000
TZNAME:UTC
DTSTART:20230101T000000
END:STANDARD
END:VTIMEZONE
BEGIN:VEVENT
DTSTART;VALUE=DATE:20241030
DTEND;VALUE=DATE:20250101
DTSTAMP:20260420T231949
CREATED:20241029T081013Z
LAST-MODIFIED:20241029T081013Z
UID:8606-1730246400-1735689599@triskelionedu.org
SUMMARY:Online PUJAB Form Sensitization & Support
DESCRIPTION:This year\, PUJAB forms\, usually filled by UACE candidates shall be done online. TESI team shall be conducting awareness and sensitization about the new PUJAB portal\, as well support the applications to submit their applications.
URL:https://triskelionedu.org/event/online-pujab-form-sensitization-support/
CATEGORIES:In-Person,Online
ATTACH;FMTTYPE=image/png:https://triskelionedu.org/wp-content/uploads/2024/10/Slide19.png
ORGANIZER;CN="TESI":MAILTO:info@triskelionedu.org
END:VEVENT
BEGIN:VEVENT
DTSTART;TZID=UTC:20241112T170000
DTEND;TZID=UTC:20241112T180000
DTSTAMP:20260420T231949
CREATED:20241111T131133Z
LAST-MODIFIED:20241112T095042Z
UID:8705-1731430800-1731434400@triskelionedu.org
SUMMARY:TESI Mentors Meeting
DESCRIPTION:The session will be led by our mentorship lead\, who will go over the guidelines\, expectations\, and goals for the TESI Mentorship Programme. This will be a valuable opportunity to ask questions and ensure clarity on your role and contributions as a mentor. \nYour participation is essential as we work together to empower young minds through guidance and support. Please confirm your attendance by responding to this email at your earliest convenience. \nThank you for your commitment to making a positive impact through mentorship. We look forward to meeting with you!
URL:https://triskelionedu.org/event/tesi-mentors-meeting/
LOCATION:Online\, Lira\, Uganda
CATEGORIES:Online
ATTACH;FMTTYPE=image/png:https://triskelionedu.org/wp-content/uploads/2024/11/Slide22.png
END:VEVENT
END:VCALENDAR